BEGIN:VCALENDAR
VERSION:2.0
PRODID:-//Clean Hydrogen Division IAHE - ECPv6.15.20//NONSGML v1.0//EN
CALSCALE:GREGORIAN
METHOD:PUBLISH
X-ORIGINAL-URL:https://www.iahe-gh2.org
X-WR-CALDESC:Events for Clean Hydrogen Division IAHE
REFRESH-INTERVAL;VALUE=DURATION:PT1H
X-Robots-Tag:noindex
X-PUBLISHED-TTL:PT1H
BEGIN:VTIMEZONE
TZID:Europe/Dublin
BEGIN:STANDARD
TZOFFSETFROM:+0000
TZOFFSETTO:+0100
TZNAME:IST
DTSTART:20240331T010000
END:STANDARD
BEGIN:DAYLIGHT
TZOFFSETFROM:+0100
TZOFFSETTO:+0000
TZNAME:GMT
DTSTART:20241027T010000
END:DAYLIGHT
BEGIN:STANDARD
TZOFFSETFROM:+0000
TZOFFSETTO:+0100
TZNAME:IST
DTSTART:20250330T010000
END:STANDARD
BEGIN:DAYLIGHT
TZOFFSETFROM:+0100
TZOFFSETTO:+0000
TZNAME:GMT
DTSTART:20251026T010000
END:DAYLIGHT
BEGIN:STANDARD
TZOFFSETFROM:+0000
TZOFFSETTO:+0100
TZNAME:IST
DTSTART:20260329T010000
END:STANDARD
BEGIN:DAYLIGHT
TZOFFSETFROM:+0100
TZOFFSETTO:+0000
TZNAME:GMT
DTSTART:20261025T010000
END:DAYLIGHT
END:VTIMEZONE
BEGIN:VTIMEZONE
TZID:America/New_York
BEGIN:DAYLIGHT
TZOFFSETFROM:-0500
TZOFFSETTO:-0400
TZNAME:EDT
DTSTART:20240310T070000
END:DAYLIGHT
BEGIN:STANDARD
TZOFFSETFROM:-0400
TZOFFSETTO:-0500
TZNAME:EST
DTSTART:20241103T060000
END:STANDARD
BEGIN:DAYLIGHT
TZOFFSETFROM:-0500
TZOFFSETTO:-0400
TZNAME:EDT
DTSTART:20250309T070000
END:DAYLIGHT
BEGIN:STANDARD
TZOFFSETFROM:-0400
TZOFFSETTO:-0500
TZNAME:EST
DTSTART:20251102T060000
END:STANDARD
BEGIN:DAYLIGHT
TZOFFSETFROM:-0500
TZOFFSETTO:-0400
TZNAME:EDT
DTSTART:20260308T070000
END:DAYLIGHT
BEGIN:STANDARD
TZOFFSETFROM:-0400
TZOFFSETTO:-0500
TZNAME:EST
DTSTART:20261101T060000
END:STANDARD
END:VTIMEZONE
BEGIN:VEVENT
DTSTART;VALUE=DATE:20251021
DTEND;VALUE=DATE:20251024
DTSTAMP:20260422T210057
CREATED:20250521T103219Z
LAST-MODIFIED:20250909T075928Z
UID:4088-1761004800-1761263999@www.iahe-gh2.org
SUMMARY:World Hydrogen Technologies Convention 2025
DESCRIPTION:Welcome to the World Hydrogen Technologies Convention 2025 in Dublin. \nGlobally industry\, society and governments are struggling to achieve an agreed\, transparent and achievable Total Cost of Ownership (TCO) for hydrogen systems. The Hydrogen Ireland Association produced World Hydrogen Technology Convention will tackle the myriad of issues embedded in this challenge and deliver a convention that encompasses the comprehensive cost analysis of deploying and maintaining hydrogen-based solutions over their entire lifecycle. \nThe convention will draw upon global expertise presenting all attendees with an informed multi-faceted understanding of the TCO of hydrogen systems\, examining both direct and indirect costs throughout the lifecycle of hydrogen technologies. By considering all these factors\, convention delegates will be able to make informed decisions about the adoption and implementation of hydrogen systems\, ensuring economic viability and sustainable growth in the hydrogen economy. \nThe Total Cost of Ownership (TCO) for hydrogen systems is a critical topic\, especially as industries and governments worldwide seek sustainable and cost-effective energy solutions. \nThe WHTC 2025 \, will help to provide a comprehensive understanding of four key areas of focus for the industry: Economic\, Environmental\, Technological and Legislative.
URL:https://www.iahe-gh2.org/event/world-hydrogen-technologies-convention-2025/
LOCATION:Clayton Hotel Burlington Road\, Ireland
ATTACH;FMTTYPE=image/png:https://www.iahe-gh2.org/wp-content/uploads/2025/05/WHTC-2025-logo-FINAL-adjusted-colors.png
END:VEVENT
BEGIN:VEVENT
DTSTART;VALUE=DATE:20251001
DTEND;VALUE=DATE:20251003
DTSTAMP:20260422T210057
CREATED:20250906T222427Z
LAST-MODIFIED:20250906T232043Z
UID:4106-1759276800-1759449599@www.iahe-gh2.org
SUMMARY:HYVOLUTION Canada
DESCRIPTION:Hyvolution Canada covers the entire value chain of the 3 main target markets: mobility\, energy\, and industry. A major advantage for developing business\, establishing partnerships\, and pooling resources.
URL:https://www.iahe-gh2.org/event/hyvolution-canada/
ATTACH;FMTTYPE=image/png:https://www.iahe-gh2.org/wp-content/uploads/2025/09/hyv.png
END:VEVENT
END:VCALENDAR